BEGIN:VCALENDAR
VERSION:2.0
PRODID:-//Die Märchenbühne in Klagenfurt - ECPv6.15.14//NONSGML v1.0//EN
CALSCALE:GREGORIAN
METHOD:PUBLISH
X-ORIGINAL-URL:https://www.xn--mrchenbhne-q5a80a.at
X-WR-CALDESC:Veranstaltungen für Die Märchenbühne in Klagenfurt
REFRESH-INTERVAL;VALUE=DURATION:PT1H
X-Robots-Tag:noindex
X-PUBLISHED-TTL:PT1H
BEGIN:VTIMEZONE
TZID:Europe/Vienna
BEGIN:DAYLIGHT
TZOFFSETFROM:+0100
TZOFFSETTO:+0200
TZNAME:CEST
DTSTART:20250330T010000
END:DAYLIGHT
BEGIN:STANDARD
TZOFFSETFROM:+0200
TZOFFSETTO:+0100
TZNAME:CET
DTSTART:20251026T010000
END:STANDARD
BEGIN:DAYLIGHT
TZOFFSETFROM:+0100
TZOFFSETTO:+0200
TZNAME:CEST
DTSTART:20260329T010000
END:DAYLIGHT
BEGIN:STANDARD
TZOFFSETFROM:+0200
TZOFFSETTO:+0100
TZNAME:CET
DTSTART:20261025T010000
END:STANDARD
BEGIN:DAYLIGHT
TZOFFSETFROM:+0100
TZOFFSETTO:+0200
TZNAME:CEST
DTSTART:20270328T010000
END:DAYLIGHT
BEGIN:STANDARD
TZOFFSETFROM:+0200
TZOFFSETTO:+0100
TZNAME:CET
DTSTART:20271031T010000
END:STANDARD
END:VTIMEZONE
BEGIN:VEVENT
DTSTART;TZID=Europe/Vienna:20260413T163000
DTEND;TZID=Europe/Vienna:20260413T163000
DTSTAMP:20260422T121418
CREATED:20251221T180125Z
LAST-MODIFIED:20251221T180125Z
UID:16608-1776097800-1776097800@www.xn--mrchenbhne-q5a80a.at
SUMMARY:„Hänsel und Gretel“ ab 4+
DESCRIPTION:Wir freuen uns auf Ihren Besuch!
URL:https://www.xn--mrchenbhne-q5a80a.at/event/haensel-und-gretel-ab-4-7/
LOCATION:Klagenfurt Europahaus\, Reitschulgasse 4\, 9020 Klagenfurt\, Österreich
CATEGORIES:Hänsel und Gretel,Klagenfurt,Märchen ab 4 Jahre
ATTACH;FMTTYPE=image/jpeg:https://www.xn--mrchenbhne-q5a80a.at/wp-content/uploads/2017/03/Haensel-Graetel.jpg
ORGANIZER;CN="Die M%C3%A4rchenb%C3%BChne":MAILTO:office@maerchenbuehne.info
END:VEVENT
BEGIN:VEVENT
DTSTART;TZID=Europe/Vienna:20260413T153000
DTEND;TZID=Europe/Vienna:20260413T153000
DTSTAMP:20260422T121418
CREATED:20251221T180218Z
LAST-MODIFIED:20251221T180218Z
UID:16612-1776094200-1776094200@www.xn--mrchenbhne-q5a80a.at
SUMMARY:„Hänsel und Gretel“ ab 4+
DESCRIPTION:Wir freuen uns auf Ihren Besuch!
URL:https://www.xn--mrchenbhne-q5a80a.at/event/haensel-und-gretel-ab-4-8/
LOCATION:Klagenfurt Europahaus\, Reitschulgasse 4\, 9020 Klagenfurt\, Österreich
CATEGORIES:Hänsel und Gretel,Klagenfurt,Märchen ab 4 Jahre
ATTACH;FMTTYPE=image/jpeg:https://www.xn--mrchenbhne-q5a80a.at/wp-content/uploads/2017/03/Haensel-Graetel.jpg
ORGANIZER;CN="Die M%C3%A4rchenb%C3%BChne":MAILTO:office@maerchenbuehne.info
END:VEVENT
BEGIN:VEVENT
DTSTART;TZID=Europe/Vienna:20260409T163000
DTEND;TZID=Europe/Vienna:20260409T163000
DTSTAMP:20260422T121418
CREATED:20251221T173756Z
LAST-MODIFIED:20251221T173756Z
UID:16580-1775752200-1775752200@www.xn--mrchenbhne-q5a80a.at
SUMMARY:„Osterhäschens Abenteuer“  ab 2 ½+
DESCRIPTION:Wir freuen uns auf Ihren Besuch!
URL:https://www.xn--mrchenbhne-q5a80a.at/event/osterhaeschens-abenteuer-ab-2-%c2%bd-9/
LOCATION:Klagenfurt Europahaus\, Reitschulgasse 4\, 9020 Klagenfurt\, Österreich
CATEGORIES:Das Osterhäschen,Geschichten ab 2 1/2 Jahre,Klagenfurt
ATTACH;FMTTYPE=image/jpeg:https://www.xn--mrchenbhne-q5a80a.at/wp-content/uploads/2018/03/Osterhäschens-Abenteuer7-1.jpg
ORGANIZER;CN="Die M%C3%A4rchenb%C3%BChne":MAILTO:office@maerchenbuehne.info
END:VEVENT
BEGIN:VEVENT
DTSTART;TZID=Europe/Vienna:20260409T153000
DTEND;TZID=Europe/Vienna:20260409T153000
DTSTAMP:20260422T121418
CREATED:20251221T173658Z
LAST-MODIFIED:20251221T173658Z
UID:16575-1775748600-1775748600@www.xn--mrchenbhne-q5a80a.at
SUMMARY:„Osterhäschens Abenteuer“  ab 2 ½+
DESCRIPTION:Wir freuen uns auf Ihren Besuch!
URL:https://www.xn--mrchenbhne-q5a80a.at/event/osterhaeschens-abenteuer-ab-2-%c2%bd-8/
LOCATION:Klagenfurt Europahaus\, Reitschulgasse 4\, 9020 Klagenfurt\, Österreich
CATEGORIES:Das Osterhäschen,Geschichten ab 2 1/2 Jahre,Klagenfurt
ATTACH;FMTTYPE=image/jpeg:https://www.xn--mrchenbhne-q5a80a.at/wp-content/uploads/2018/03/Osterhäschens-Abenteuer7-1.jpg
ORGANIZER;CN="Die M%C3%A4rchenb%C3%BChne":MAILTO:office@maerchenbuehne.info
END:VEVENT
BEGIN:VEVENT
DTSTART;TZID=Europe/Vienna:20260326T163000
DTEND;TZID=Europe/Vienna:20260326T163000
DTSTAMP:20260422T121418
CREATED:20251221T180033Z
LAST-MODIFIED:20251221T180033Z
UID:16604-1774542600-1774542600@www.xn--mrchenbhne-q5a80a.at
SUMMARY:„Hänsel und Gretel“ ab 4+
DESCRIPTION:Wir freuen uns auf Ihren Besuch!
URL:https://www.xn--mrchenbhne-q5a80a.at/event/haensel-und-gretel-ab-4-6/
LOCATION:Klagenfurt Europahaus\, Reitschulgasse 4\, 9020 Klagenfurt\, Österreich
CATEGORIES:Hänsel und Gretel,Klagenfurt,Märchen ab 4 Jahre
ATTACH;FMTTYPE=image/jpeg:https://www.xn--mrchenbhne-q5a80a.at/wp-content/uploads/2017/03/Haensel-Graetel.jpg
ORGANIZER;CN="Die M%C3%A4rchenb%C3%BChne":MAILTO:office@maerchenbuehne.info
END:VEVENT
BEGIN:VEVENT
DTSTART;TZID=Europe/Vienna:20260326T153000
DTEND;TZID=Europe/Vienna:20260326T153000
DTSTAMP:20260422T121418
CREATED:20251221T175947Z
LAST-MODIFIED:20251221T175947Z
UID:16600-1774539000-1774539000@www.xn--mrchenbhne-q5a80a.at
SUMMARY:„Hänsel und Gretel“ ab 4+
DESCRIPTION:Wir freuen uns auf Ihren Besuch!
URL:https://www.xn--mrchenbhne-q5a80a.at/event/haensel-und-gretel-ab-4/
LOCATION:Klagenfurt Europahaus\, Reitschulgasse 4\, 9020 Klagenfurt\, Österreich
CATEGORIES:Hänsel und Gretel,Klagenfurt,Märchen ab 4 Jahre
ATTACH;FMTTYPE=image/jpeg:https://www.xn--mrchenbhne-q5a80a.at/wp-content/uploads/2017/03/Haensel-Graetel.jpg
ORGANIZER;CN="Die M%C3%A4rchenb%C3%BChne":MAILTO:office@maerchenbuehne.info
END:VEVENT
BEGIN:VEVENT
DTSTART;TZID=Europe/Vienna:20260325T163000
DTEND;TZID=Europe/Vienna:20260325T163000
DTSTAMP:20260422T121418
CREATED:20260108T171635Z
LAST-MODIFIED:20260108T171635Z
UID:40314-1774456200-1774456200@www.xn--mrchenbhne-q5a80a.at
SUMMARY:„Osterhäschens Abenteuer“  ab 2 ½+
DESCRIPTION:Wir freuen uns auf Ihren Besuch!
URL:https://www.xn--mrchenbhne-q5a80a.at/event/osterhaeschens-abenteuer-ab-2-%c2%bd-11/
LOCATION:Klagenfurt Europahaus\, Reitschulgasse 4\, 9020 Klagenfurt\, Österreich
CATEGORIES:Das Osterhäschen,Geschichten ab 2 1/2 Jahre,Klagenfurt
ATTACH;FMTTYPE=image/jpeg:https://www.xn--mrchenbhne-q5a80a.at/wp-content/uploads/2018/03/Osterhäschens-Abenteuer7-1.jpg
ORGANIZER;CN="Die M%C3%A4rchenb%C3%BChne":MAILTO:office@maerchenbuehne.info
END:VEVENT
BEGIN:VEVENT
DTSTART;TZID=Europe/Vienna:20260325T153000
DTEND;TZID=Europe/Vienna:20260325T153000
DTSTAMP:20260422T121418
CREATED:20260108T171421Z
LAST-MODIFIED:20260108T171433Z
UID:40309-1774452600-1774452600@www.xn--mrchenbhne-q5a80a.at
SUMMARY:„Osterhäschens Abenteuer“  ab 2 ½+
DESCRIPTION:Wir freuen uns auf Ihren Besuch!
URL:https://www.xn--mrchenbhne-q5a80a.at/event/osterhaeschens-abenteuer-ab-2-%c2%bd-10/
LOCATION:Klagenfurt Europahaus\, Reitschulgasse 4\, 9020 Klagenfurt\, Österreich
CATEGORIES:Das Osterhäschen,Geschichten ab 2 1/2 Jahre,Klagenfurt
ATTACH;FMTTYPE=image/jpeg:https://www.xn--mrchenbhne-q5a80a.at/wp-content/uploads/2018/03/Osterhäschens-Abenteuer7-1.jpg
ORGANIZER;CN="Die M%C3%A4rchenb%C3%BChne":MAILTO:office@maerchenbuehne.info
END:VEVENT
BEGIN:VEVENT
DTSTART;TZID=Europe/Vienna:20260323T163000
DTEND;TZID=Europe/Vienna:20260323T163000
DTSTAMP:20260422T121418
CREATED:20251221T173440Z
LAST-MODIFIED:20251221T173440Z
UID:16565-1774283400-1774283400@www.xn--mrchenbhne-q5a80a.at
SUMMARY:„Osterhäschens Abenteuer“  ab 2 ½+
DESCRIPTION:Wir freuen uns auf Ihren Besuch!
URL:https://www.xn--mrchenbhne-q5a80a.at/event/osterhaeschens-abenteuer-ab-2-%c2%bd-6/
LOCATION:Klagenfurt Europahaus\, Reitschulgasse 4\, 9020 Klagenfurt\, Österreich
CATEGORIES:Das Osterhäschen,Geschichten ab 2 1/2 Jahre,Klagenfurt
ATTACH;FMTTYPE=image/jpeg:https://www.xn--mrchenbhne-q5a80a.at/wp-content/uploads/2018/03/Osterhäschens-Abenteuer7-1.jpg
ORGANIZER;CN="Die M%C3%A4rchenb%C3%BChne":MAILTO:office@maerchenbuehne.info
END:VEVENT
BEGIN:VEVENT
DTSTART;TZID=Europe/Vienna:20260323T153000
DTEND;TZID=Europe/Vienna:20260323T153000
DTSTAMP:20260422T121418
CREATED:20251221T173545Z
LAST-MODIFIED:20251221T173545Z
UID:16570-1774279800-1774279800@www.xn--mrchenbhne-q5a80a.at
SUMMARY:„Osterhäschens Abenteuer“  ab 2 ½+
DESCRIPTION:Wir freuen uns auf Ihren Besuch!
URL:https://www.xn--mrchenbhne-q5a80a.at/event/osterhaeschens-abenteuer-ab-2-%c2%bd-7/
LOCATION:Klagenfurt Europahaus\, Reitschulgasse 4\, 9020 Klagenfurt\, Österreich
CATEGORIES:Das Osterhäschen,Geschichten ab 2 1/2 Jahre,Klagenfurt
ATTACH;FMTTYPE=image/jpeg:https://www.xn--mrchenbhne-q5a80a.at/wp-content/uploads/2018/03/Osterhäschens-Abenteuer7-1.jpg
ORGANIZER;CN="Die M%C3%A4rchenb%C3%BChne":MAILTO:office@maerchenbuehne.info
END:VEVENT
BEGIN:VEVENT
DTSTART;TZID=Europe/Vienna:20260318T163000
DTEND;TZID=Europe/Vienna:20260318T163000
DTSTAMP:20260422T121418
CREATED:20251221T173337Z
LAST-MODIFIED:20251221T173337Z
UID:16560-1773851400-1773851400@www.xn--mrchenbhne-q5a80a.at
SUMMARY:„Osterhäschens Abenteuer“  ab 2 ½+
DESCRIPTION:Wir freuen uns auf Ihren Besuch!
URL:https://www.xn--mrchenbhne-q5a80a.at/event/osterhaeschens-abenteuer-ab-2-%c2%bd-5/
LOCATION:Klagenfurt Europahaus\, Reitschulgasse 4\, 9020 Klagenfurt\, Österreich
CATEGORIES:Das Osterhäschen,Geschichten ab 2 1/2 Jahre,Klagenfurt
ATTACH;FMTTYPE=image/jpeg:https://www.xn--mrchenbhne-q5a80a.at/wp-content/uploads/2018/03/Osterhäschens-Abenteuer7-1.jpg
ORGANIZER;CN="Die M%C3%A4rchenb%C3%BChne":MAILTO:office@maerchenbuehne.info
END:VEVENT
BEGIN:VEVENT
DTSTART;TZID=Europe/Vienna:20260318T153000
DTEND;TZID=Europe/Vienna:20260318T153000
DTSTAMP:20260422T121418
CREATED:20251221T173242Z
LAST-MODIFIED:20251221T173242Z
UID:16555-1773847800-1773847800@www.xn--mrchenbhne-q5a80a.at
SUMMARY:„Osterhäschens Abenteuer“  ab 2 ½+
DESCRIPTION:Wir freuen uns auf Ihren Besuch!
URL:https://www.xn--mrchenbhne-q5a80a.at/event/osterhaeschens-abenteuer-ab-2-%c2%bd-4/
LOCATION:Klagenfurt Europahaus\, Reitschulgasse 4\, 9020 Klagenfurt\, Österreich
CATEGORIES:Das Osterhäschen,Geschichten ab 2 1/2 Jahre,Klagenfurt
ATTACH;FMTTYPE=image/jpeg:https://www.xn--mrchenbhne-q5a80a.at/wp-content/uploads/2018/03/Osterhäschens-Abenteuer7-1.jpg
ORGANIZER;CN="Die M%C3%A4rchenb%C3%BChne":MAILTO:office@maerchenbuehne.info
END:VEVENT
BEGIN:VEVENT
DTSTART;TZID=Europe/Vienna:20260316T163000
DTEND;TZID=Europe/Vienna:20260316T163000
DTSTAMP:20260422T121418
CREATED:20251221T175713Z
LAST-MODIFIED:20251221T175713Z
UID:16592-1773678600-1773678600@www.xn--mrchenbhne-q5a80a.at
SUMMARY:„Hänsel und Gretel“ ab 4+
DESCRIPTION:Wir freuen uns auf Ihren Besuch!
URL:https://www.xn--mrchenbhne-q5a80a.at/event/haensel-und-gretel-ab-4-4/
LOCATION:Klagenfurt Europahaus\, Reitschulgasse 4\, 9020 Klagenfurt\, Österreich
CATEGORIES:Hänsel und Gretel,Klagenfurt,Märchen ab 4 Jahre
ATTACH;FMTTYPE=image/jpeg:https://www.xn--mrchenbhne-q5a80a.at/wp-content/uploads/2017/03/Haensel-Graetel.jpg
ORGANIZER;CN="Die M%C3%A4rchenb%C3%BChne":MAILTO:office@maerchenbuehne.info
END:VEVENT
BEGIN:VEVENT
DTSTART;TZID=Europe/Vienna:20260316T153000
DTEND;TZID=Europe/Vienna:20260316T153000
DTSTAMP:20260422T121418
CREATED:20251221T175802Z
LAST-MODIFIED:20251221T175802Z
UID:16596-1773675000-1773675000@www.xn--mrchenbhne-q5a80a.at
SUMMARY:„Hänsel und Gretel“ ab 4+
DESCRIPTION:Wir freuen uns auf Ihren Besuch!
URL:https://www.xn--mrchenbhne-q5a80a.at/event/haensel-und-gretel-ab-4-5/
LOCATION:Klagenfurt Europahaus\, Reitschulgasse 4\, 9020 Klagenfurt\, Österreich
CATEGORIES:Hänsel und Gretel,Klagenfurt,Märchen ab 4 Jahre
ATTACH;FMTTYPE=image/jpeg:https://www.xn--mrchenbhne-q5a80a.at/wp-content/uploads/2017/03/Haensel-Graetel.jpg
ORGANIZER;CN="Die M%C3%A4rchenb%C3%BChne":MAILTO:office@maerchenbuehne.info
END:VEVENT
BEGIN:VEVENT
DTSTART;TZID=Europe/Vienna:20260312T163000
DTEND;TZID=Europe/Vienna:20260312T163000
DTSTAMP:20260422T121418
CREATED:20251221T175624Z
LAST-MODIFIED:20251221T175624Z
UID:16588-1773333000-1773333000@www.xn--mrchenbhne-q5a80a.at
SUMMARY:„Hänsel und Gretel“ ab 4+
DESCRIPTION:Wir freuen uns auf Ihren Besuch!
URL:https://www.xn--mrchenbhne-q5a80a.at/event/haensel-und-gretel-ab-4-3/
LOCATION:Klagenfurt Europahaus\, Reitschulgasse 4\, 9020 Klagenfurt\, Österreich
CATEGORIES:Hänsel und Gretel,Klagenfurt,Märchen ab 4 Jahre
ATTACH;FMTTYPE=image/jpeg:https://www.xn--mrchenbhne-q5a80a.at/wp-content/uploads/2017/03/Haensel-Graetel.jpg
ORGANIZER;CN="Die M%C3%A4rchenb%C3%BChne":MAILTO:office@maerchenbuehne.info
END:VEVENT
BEGIN:VEVENT
DTSTART;TZID=Europe/Vienna:20260312T153000
DTEND;TZID=Europe/Vienna:20260312T153000
DTSTAMP:20260422T121418
CREATED:20251221T175530Z
LAST-MODIFIED:20251221T175530Z
UID:16585-1773329400-1773329400@www.xn--mrchenbhne-q5a80a.at
SUMMARY:„Hänsel und Gretel“ ab 4+
DESCRIPTION:Wir freuen uns auf Ihren Besuch!
URL:https://www.xn--mrchenbhne-q5a80a.at/event/haensel-und-gretel-ab-4-2/
LOCATION:Klagenfurt Europahaus\, Reitschulgasse 4\, 9020 Klagenfurt\, Österreich
CATEGORIES:Hänsel und Gretel,Klagenfurt,Märchen ab 4 Jahre
ATTACH;FMTTYPE=image/jpeg:https://www.xn--mrchenbhne-q5a80a.at/wp-content/uploads/2017/03/Haensel-Graetel.jpg
ORGANIZER;CN="Die M%C3%A4rchenb%C3%BChne":MAILTO:office@maerchenbuehne.info
END:VEVENT
BEGIN:VEVENT
DTSTART;TZID=Europe/Vienna:20260309T163000
DTEND;TZID=Europe/Vienna:20260309T163000
DTSTAMP:20260422T121418
CREATED:20251221T173052Z
LAST-MODIFIED:20251221T173052Z
UID:16550-1773073800-1773073800@www.xn--mrchenbhne-q5a80a.at
SUMMARY:„Osterhäschens Abenteuer“  ab 2 ½+
DESCRIPTION:Wir freuen uns auf Ihren Besuch!
URL:https://www.xn--mrchenbhne-q5a80a.at/event/osterhaeschens-abenteuer-ab-2-%c2%bd-3/
LOCATION:Klagenfurt Europahaus\, Reitschulgasse 4\, 9020 Klagenfurt\, Österreich
CATEGORIES:Das Osterhäschen,Geschichten ab 2 1/2 Jahre,Klagenfurt
ATTACH;FMTTYPE=image/jpeg:https://www.xn--mrchenbhne-q5a80a.at/wp-content/uploads/2018/03/Osterhäschens-Abenteuer7-1.jpg
ORGANIZER;CN="Die M%C3%A4rchenb%C3%BChne":MAILTO:office@maerchenbuehne.info
END:VEVENT
BEGIN:VEVENT
DTSTART;TZID=Europe/Vienna:20260309T153000
DTEND;TZID=Europe/Vienna:20260309T153000
DTSTAMP:20260422T121418
CREATED:20251221T172835Z
LAST-MODIFIED:20251221T172835Z
UID:16545-1773070200-1773070200@www.xn--mrchenbhne-q5a80a.at
SUMMARY:„Osterhäschens Abenteuer“  ab 2 ½+
DESCRIPTION:Wir freuen uns auf Ihren Besuch!
URL:https://www.xn--mrchenbhne-q5a80a.at/event/osterhaeschens-abenteuer-ab-2-%c2%bd-2/
LOCATION:Klagenfurt Europahaus\, Reitschulgasse 4\, 9020 Klagenfurt\, Österreich
CATEGORIES:Das Osterhäschen,Geschichten ab 2 1/2 Jahre,Klagenfurt
ATTACH;FMTTYPE=image/jpeg:https://www.xn--mrchenbhne-q5a80a.at/wp-content/uploads/2018/03/Osterhäschens-Abenteuer7-1.jpg
ORGANIZER;CN="Die M%C3%A4rchenb%C3%BChne":MAILTO:office@maerchenbuehne.info
END:VEVENT
BEGIN:VEVENT
DTSTART;TZID=Europe/Vienna:20260305T163000
DTEND;TZID=Europe/Vienna:20260305T163000
DTSTAMP:20260422T121418
CREATED:20251221T140042Z
LAST-MODIFIED:20251221T170949Z
UID:16475-1772728200-1772728200@www.xn--mrchenbhne-q5a80a.at
SUMMARY:„Flöckchen\, der Schneemann“ ab 2 ½+
DESCRIPTION:Wir freuen uns auf Ihren Besuch!
URL:https://www.xn--mrchenbhne-q5a80a.at/event/floeckchen-der-schneemann-ab-2-%c2%bd-7/
LOCATION:Klagenfurt Europahaus\, Reitschulgasse 4\, 9020 Klagenfurt\, Österreich
CATEGORIES:Flöckchen,Geschichten ab 2 1/2 Jahre,Geschichten ab 2 1/2 Jahre
ATTACH;FMTTYPE=image/jpeg:https://www.xn--mrchenbhne-q5a80a.at/wp-content/uploads/2019/11/4-Flöckchen-scaled.jpg
ORGANIZER;CN="Die M%C3%A4rchenb%C3%BChne":MAILTO:office@maerchenbuehne.info
END:VEVENT
BEGIN:VEVENT
DTSTART;TZID=Europe/Vienna:20260305T153000
DTEND;TZID=Europe/Vienna:20260305T153000
DTSTAMP:20260422T121418
CREATED:20251221T140145Z
LAST-MODIFIED:20251221T170833Z
UID:16483-1772724600-1772724600@www.xn--mrchenbhne-q5a80a.at
SUMMARY:„Flöckchen\, der Schneemann“ ab 2 ½+
DESCRIPTION:Wir freuen uns auf Ihren Besuch!
URL:https://www.xn--mrchenbhne-q5a80a.at/event/floeckchen-der-schneemann-ab-2-%c2%bd-8/
LOCATION:Klagenfurt Europahaus\, Reitschulgasse 4\, 9020 Klagenfurt\, Österreich
CATEGORIES:Flöckchen,Geschichten ab 2 1/2 Jahre,Geschichten ab 2 1/2 Jahre
ATTACH;FMTTYPE=image/jpeg:https://www.xn--mrchenbhne-q5a80a.at/wp-content/uploads/2019/11/4-Flöckchen-scaled.jpg
ORGANIZER;CN="Die M%C3%A4rchenb%C3%BChne":MAILTO:office@maerchenbuehne.info
END:VEVENT
BEGIN:VEVENT
DTSTART;TZID=Europe/Vienna:20260302T163000
DTEND;TZID=Europe/Vienna:20260302T163000
DTSTAMP:20260422T121418
CREATED:20251221T143032Z
LAST-MODIFIED:20251221T171605Z
UID:16517-1772469000-1772469000@www.xn--mrchenbhne-q5a80a.at
SUMMARY:„Schneeweißchen und Rosenrot" ab 4+
DESCRIPTION:Wir freuen uns auf Ihren Besuch!
URL:https://www.xn--mrchenbhne-q5a80a.at/event/schneeweisschen-und-rosenrot-ab-4-7/
LOCATION:Klagenfurt Europahaus\, Reitschulgasse 4\, 9020 Klagenfurt\, Österreich
CATEGORIES:Klagenfurt,Märchen ab 4 Jahre,Schneeweißchen und Rosenrot
ATTACH;FMTTYPE=image/jpeg:https://www.xn--mrchenbhne-q5a80a.at/wp-content/uploads/2016/08/schneeweisschen.jpg
ORGANIZER;CN="Die M%C3%A4rchenb%C3%BChne":MAILTO:office@maerchenbuehne.info
END:VEVENT
BEGIN:VEVENT
DTSTART;TZID=Europe/Vienna:20260302T153000
DTEND;TZID=Europe/Vienna:20260302T153000
DTSTAMP:20260422T121418
CREATED:20251221T143121Z
LAST-MODIFIED:20251221T171515Z
UID:16521-1772465400-1772465400@www.xn--mrchenbhne-q5a80a.at
SUMMARY:„Schneeweißchen und Rosenrot" ab 4+
DESCRIPTION:Wir freuen uns auf Ihren Besuch!
URL:https://www.xn--mrchenbhne-q5a80a.at/event/schneeweisschen-und-rosenrot-ab-4-8/
LOCATION:Klagenfurt Europahaus\, Reitschulgasse 4\, 9020 Klagenfurt\, Österreich
CATEGORIES:Klagenfurt,Märchen ab 4 Jahre,Schneeweißchen und Rosenrot
ATTACH;FMTTYPE=image/jpeg:https://www.xn--mrchenbhne-q5a80a.at/wp-content/uploads/2016/08/schneeweisschen.jpg
ORGANIZER;CN="Die M%C3%A4rchenb%C3%BChne":MAILTO:office@maerchenbuehne.info
END:VEVENT
BEGIN:VEVENT
DTSTART;TZID=Europe/Vienna:20260226T163000
DTEND;TZID=Europe/Vienna:20260226T163000
DTSTAMP:20260422T121418
CREATED:20251221T142924Z
LAST-MODIFIED:20251221T171424Z
UID:16513-1772123400-1772123400@www.xn--mrchenbhne-q5a80a.at
SUMMARY:„Schneeweißchen und Rosenrot" ab 4+
DESCRIPTION:Wir freuen uns auf Ihren Besuch!
URL:https://www.xn--mrchenbhne-q5a80a.at/event/schneeweisschen-und-rosenrot-ab-4-6/
LOCATION:Klagenfurt Europahaus\, Reitschulgasse 4\, 9020 Klagenfurt\, Österreich
CATEGORIES:Klagenfurt,Märchen ab 4 Jahre,Schneeweißchen und Rosenrot
ATTACH;FMTTYPE=image/jpeg:https://www.xn--mrchenbhne-q5a80a.at/wp-content/uploads/2016/08/schneeweisschen.jpg
ORGANIZER;CN="Die M%C3%A4rchenb%C3%BChne":MAILTO:office@maerchenbuehne.info
END:VEVENT
BEGIN:VEVENT
DTSTART;TZID=Europe/Vienna:20260226T153000
DTEND;TZID=Europe/Vienna:20260226T153000
DTSTAMP:20260422T121418
CREATED:20251221T142828Z
LAST-MODIFIED:20251221T171333Z
UID:16509-1772119800-1772119800@www.xn--mrchenbhne-q5a80a.at
SUMMARY:„Schneeweißchen und Rosenrot" ab 4+
DESCRIPTION:Wir freuen uns auf Ihren Besuch!
URL:https://www.xn--mrchenbhne-q5a80a.at/event/schneeweisschen-und-rosenrot-ab-4-5/
LOCATION:Klagenfurt Europahaus\, Reitschulgasse 4\, 9020 Klagenfurt\, Österreich
CATEGORIES:Klagenfurt,Märchen ab 4 Jahre,Schneeweißchen und Rosenrot
ATTACH;FMTTYPE=image/jpeg:https://www.xn--mrchenbhne-q5a80a.at/wp-content/uploads/2016/08/schneeweisschen.jpg
ORGANIZER;CN="Die M%C3%A4rchenb%C3%BChne":MAILTO:office@maerchenbuehne.info
END:VEVENT
BEGIN:VEVENT
DTSTART;TZID=Europe/Vienna:20260225T163000
DTEND;TZID=Europe/Vienna:20260225T163000
DTSTAMP:20260422T121418
CREATED:20251221T135935Z
LAST-MODIFIED:20251221T170738Z
UID:16467-1772037000-1772037000@www.xn--mrchenbhne-q5a80a.at
SUMMARY:„Flöckchen\, der Schneemann“ ab 2 ½+
DESCRIPTION:Wir freuen uns auf Ihren Besuch!
URL:https://www.xn--mrchenbhne-q5a80a.at/event/floeckchen-der-schneemann-ab-2-%c2%bd-5/
LOCATION:Klagenfurt Europahaus\, Reitschulgasse 4\, 9020 Klagenfurt\, Österreich
CATEGORIES:Flöckchen,Geschichten ab 2 1/2 Jahre,Geschichten ab 2 1/2 Jahre
ATTACH;FMTTYPE=image/jpeg:https://www.xn--mrchenbhne-q5a80a.at/wp-content/uploads/2019/11/4-Flöckchen-scaled.jpg
ORGANIZER;CN="Die M%C3%A4rchenb%C3%BChne":MAILTO:office@maerchenbuehne.info
END:VEVENT
BEGIN:VEVENT
DTSTART;TZID=Europe/Vienna:20260225T153000
DTEND;TZID=Europe/Vienna:20260225T153000
DTSTAMP:20260422T121418
CREATED:20251221T135830Z
LAST-MODIFIED:20251221T170646Z
UID:16459-1772033400-1772033400@www.xn--mrchenbhne-q5a80a.at
SUMMARY:„Flöckchen\, der Schneemann“ ab 2 ½+
DESCRIPTION:Wir freuen uns auf Ihren Besuch!
URL:https://www.xn--mrchenbhne-q5a80a.at/event/floeckchen-der-schneemann-ab-2-%c2%bd-4/
LOCATION:Klagenfurt Europahaus\, Reitschulgasse 4\, 9020 Klagenfurt\, Österreich
CATEGORIES:Flöckchen,Geschichten ab 2 1/2 Jahre,Geschichten ab 2 1/2 Jahre
ATTACH;FMTTYPE=image/jpeg:https://www.xn--mrchenbhne-q5a80a.at/wp-content/uploads/2019/11/4-Flöckchen-scaled.jpg
ORGANIZER;CN="Die M%C3%A4rchenb%C3%BChne":MAILTO:office@maerchenbuehne.info
END:VEVENT
BEGIN:VEVENT
DTSTART;TZID=Europe/Vienna:20260219T163000
DTEND;TZID=Europe/Vienna:20260219T163000
DTSTAMP:20260422T121418
CREATED:20251221T135605Z
LAST-MODIFIED:20251221T170553Z
UID:16443-1771518600-1771518600@www.xn--mrchenbhne-q5a80a.at
SUMMARY:„Flöckchen\, der Schneemann“ ab 2 ½+
DESCRIPTION:Wir freuen uns auf Ihren Besuch!
URL:https://www.xn--mrchenbhne-q5a80a.at/event/floeckchen-der-schneemann-ab-2-%c2%bd-2/
LOCATION:Klagenfurt Europahaus\, Reitschulgasse 4\, 9020 Klagenfurt\, Österreich
CATEGORIES:Flöckchen,Geschichten ab 2 1/2 Jahre,Geschichten ab 2 1/2 Jahre
ATTACH;FMTTYPE=image/jpeg:https://www.xn--mrchenbhne-q5a80a.at/wp-content/uploads/2019/11/4-Flöckchen-scaled.jpg
ORGANIZER;CN="Die M%C3%A4rchenb%C3%BChne":MAILTO:office@maerchenbuehne.info
END:VEVENT
BEGIN:VEVENT
DTSTART;TZID=Europe/Vienna:20260219T153000
DTEND;TZID=Europe/Vienna:20260219T153000
DTSTAMP:20260422T121418
CREATED:20251221T135717Z
LAST-MODIFIED:20251221T170501Z
UID:16451-1771515000-1771515000@www.xn--mrchenbhne-q5a80a.at
SUMMARY:„Flöckchen\, der Schneemann“ ab 2 ½+
DESCRIPTION:Wir freuen uns auf Ihren Besuch!
URL:https://www.xn--mrchenbhne-q5a80a.at/event/floeckchen-der-schneemann-ab-2-%c2%bd-3/
LOCATION:Klagenfurt Europahaus\, Reitschulgasse 4\, 9020 Klagenfurt\, Österreich
CATEGORIES:Flöckchen,Geschichten ab 2 1/2 Jahre,Geschichten ab 2 1/2 Jahre
ATTACH;FMTTYPE=image/jpeg:https://www.xn--mrchenbhne-q5a80a.at/wp-content/uploads/2019/11/4-Flöckchen-scaled.jpg
ORGANIZER;CN="Die M%C3%A4rchenb%C3%BChne":MAILTO:office@maerchenbuehne.info
END:VEVENT
BEGIN:VEVENT
DTSTART;TZID=Europe/Vienna:20260216T163000
DTEND;TZID=Europe/Vienna:20260216T163000
DTSTAMP:20260422T121418
CREATED:20251221T142646Z
LAST-MODIFIED:20251221T171238Z
UID:16501-1771259400-1771259400@www.xn--mrchenbhne-q5a80a.at
SUMMARY:„Schneeweißchen und Rosenrot" ab 4+
DESCRIPTION:Wir freuen uns auf Ihren Besuch!
URL:https://www.xn--mrchenbhne-q5a80a.at/event/schneeweisschen-und-rosenrot-ab-4-3/
LOCATION:Klagenfurt Europahaus\, Reitschulgasse 4\, 9020 Klagenfurt\, Österreich
CATEGORIES:Klagenfurt,Märchen ab 4 Jahre,Schneeweißchen und Rosenrot
ATTACH;FMTTYPE=image/jpeg:https://www.xn--mrchenbhne-q5a80a.at/wp-content/uploads/2016/08/schneeweisschen.jpg
ORGANIZER;CN="Die M%C3%A4rchenb%C3%BChne":MAILTO:office@maerchenbuehne.info
END:VEVENT
BEGIN:VEVENT
DTSTART;TZID=Europe/Vienna:20260216T153000
DTEND;TZID=Europe/Vienna:20260216T153000
DTSTAMP:20260422T121418
CREATED:20251221T142740Z
LAST-MODIFIED:20251221T171154Z
UID:16505-1771255800-1771255800@www.xn--mrchenbhne-q5a80a.at
SUMMARY:„Schneeweißchen und Rosenrot" ab 4+
DESCRIPTION:Wir freuen uns auf Ihren Besuch!
URL:https://www.xn--mrchenbhne-q5a80a.at/event/schneeweisschen-und-rosenrot-ab-4-4/
LOCATION:Klagenfurt Europahaus\, Reitschulgasse 4\, 9020 Klagenfurt\, Österreich
CATEGORIES:Klagenfurt,Märchen ab 4 Jahre,Schneeweißchen und Rosenrot
ATTACH;FMTTYPE=image/jpeg:https://www.xn--mrchenbhne-q5a80a.at/wp-content/uploads/2016/08/schneeweisschen.jpg
ORGANIZER;CN="Die M%C3%A4rchenb%C3%BChne":MAILTO:office@maerchenbuehne.info
END:VEVENT
END:VCALENDAR